BEGIN:VCALENDAR
VERSION:2.0
PRODID:-//Red Arte - ECPv6.15.20//NONSGML v1.0//EN
CALSCALE:GREGORIAN
METHOD:PUBLISH
X-WR-CALNAME:Red Arte
X-ORIGINAL-URL:https://redarte.cl
X-WR-CALDESC:Eventos para Red Arte
REFRESH-INTERVAL;VALUE=DURATION:PT1H
X-Robots-Tag:noindex
X-PUBLISHED-TTL:PT1H
BEGIN:VTIMEZONE
TZID:America/Sao_Paulo
BEGIN:STANDARD
TZOFFSETFROM:-0300
TZOFFSETTO:-0300
TZNAME:-03
DTSTART:20250101T000000
END:STANDARD
END:VTIMEZONE
BEGIN:VEVENT
DTSTART;TZID=America/Sao_Paulo:20260415T180000
DTEND;TZID=America/Sao_Paulo:20260415T200000
DTSTAMP:20260420T082627
CREATED:20260411T004217Z
LAST-MODIFIED:20260411T034926Z
UID:50-1776276000-1776283200@redarte.cl
SUMMARY:Curso Progentis
DESCRIPTION:Evento Prueba
URL:https://redarte.cl/index.php/event/curso-progentis/
LOCATION:Liceo\, Gran Avenida 4688\, San Miguel\, Chile
ATTACH;FMTTYPE=image/jpeg:https://redarte.cl/wp-content/uploads/2026/04/art_gallery_04.jpg
END:VEVENT
END:VCALENDAR